<?xml version="1.0" encoding="UTF-8"?>
<Capabilities xmlns="http://www.opengis.net/wmts/1.0"
xmlns:ows="http://www.opengis.net/ows/1.1"
xmlns:xlink="http://www.w3.org/1999/xlink"
xmlns:xsi="http://www.w3.org/2001/XMLSchema-instance"
xmlns:gml="http://www.opengis.net/gml"
xsi:schemaLocation="http://www.opengis.net/wmts/1.0 http://schemas.opengis.net/wmts/1.0/wmtsGetCapabilities_response.xsd"
version="1.0.0">
<!-- Service Identification --> <ows:ServiceIdentification>
<ows:Title>Cache_Imagery_2020</ows:Title>
<ows:ServiceType>OGC WMTS</ows:ServiceType>
<ows:ServiceTypeVersion>1.0.0</ows:ServiceTypeVersion>
</ows:ServiceIdentification> <!-- Operations Metadata --> <ows:OperationsMetadata>
<ows:Operation name="GetCapabilities">
<ows:DCP>
<ows:HTTP>
<ows:Get xlink:href="https://sccgis.santacruzcountyca.gov/server/rest/services/Cache/Imagery_2020/MapServer/WMTS/1.0.0/WMTSCapabilities.xml">
<ows:Constraint name="GetEncoding">
<ows:AllowedValues>
<ows:Value>RESTful</ows:Value>
</ows:AllowedValues>
</ows:Constraint>
</ows:Get>
<!-- add KVP binding in 10.1 -->
<ows:Get xlink:href="https://sccgis.santacruzcountyca.gov/server/rest/services/Cache/Imagery_2020/MapServer/WMTS?">
<ows:Constraint name="GetEncoding">
<ows:AllowedValues>
<ows:Value>KVP</ows:Value>
</ows:AllowedValues>
</ows:Constraint>
</ows:Get>
</ows:HTTP>
</ows:DCP>
</ows:Operation>
<ows:Operation name="GetTile">
<ows:DCP>
<ows:HTTP>
<ows:Get xlink:href="https://sccgis.santacruzcountyca.gov/server/rest/services/Cache/Imagery_2020/MapServer/WMTS/tile/1.0.0/">
<ows:Constraint name="GetEncoding">
<ows:AllowedValues>
<ows:Value>RESTful</ows:Value>
</ows:AllowedValues>
</ows:Constraint>
</ows:Get>
<ows:Get xlink:href="https://sccgis.santacruzcountyca.gov/server/rest/services/Cache/Imagery_2020/MapServer/WMTS?">
<ows:Constraint name="GetEncoding">
<ows:AllowedValues>
<ows:Value>KVP</ows:Value>
</ows:AllowedValues>
</ows:Constraint>
</ows:Get>
</ows:HTTP>
</ows:DCP>
</ows:Operation>
</ows:OperationsMetadata> <Contents>
<!--Layer--> <Layer>
<ows:Title>Cache_Imagery_2020</ows:Title> <ows:Identifier>Cache_Imagery_2020</ows:Identifier>
<ows:BoundingBox crs="urn:ogc:def:crs:EPSG::2227">
<ows:LowerCorner>5921782.820534704 1729340.2041757035</ows:LowerCorner>
<ows:UpperCorner>6332720.320534704 1944183.9541757035</ows:UpperCorner>
</ows:BoundingBox> <ows:WGS84BoundingBox crs="urn:ogc:def:crs:OGC:2:84">
<ows:LowerCorner>-122.70051671731795 36.7237194120109</ows:LowerCorner>
<ows:UpperCorner>-121.28129668417013 37.33163359363217</ows:UpperCorner>
</ows:WGS84BoundingBox>
<Style isDefault="true">
<ows:Title>Default Style</ows:Title>
<ows:Identifier>default</ows:Identifier>
</Style>
<Format>image/png</Format>
<TileMatrixSetLink>
<TileMatrixSet>default028mm</TileMatrixSet>
</TileMatrixSetLink>
<ResourceURL format="image/png" resourceType="tile" template="https://sccgis.santacruzcountyca.gov/server/rest/services/Cache/Imagery_2020/MapServer/WMTS/tile/1.0.0/Cache_Imagery_2020/{Style}/{TileMatrixSet}/{TileMatrix}/{TileRow}/{TileCol}.png" />
</Layer> <!--TileMatrixSet-->
<TileMatrixSet>
<ows:Title>TileMatrix using 0.28mm</ows:Title>
<ows:Abstract>The tile matrix set that has scale values calculated based on the dpi defined by OGC specification (dpi assumes 0.28mm as the physical distance of a pixel).</ows:Abstract> <ows:Identifier>default028mm</ows:Identifier>
<ows:SupportedCRS>urn:ogc:def:crs:EPSG::2227</ows:SupportedCRS>
<TileMatrix>
<ows:Identifier>0</ows:Identifier>
<ScaleDenominator>261087.57574654726</ScaleDenominator>
<TopLeftCorner>-1.158606E8 1.51575E8</TopLeftCorner> <TileWidth>256</TileWidth> <TileHeight>256</TileHeight>
<MatrixWidth>1991</MatrixWidth> <MatrixHeight>2441</MatrixHeight>
</TileMatrix>
<TileMatrix>
<ows:Identifier>1</ows:Identifier>
<ScaleDenominator>174058.38383103147</ScaleDenominator>
<TopLeftCorner>-1.158606E8 1.51575E8</TopLeftCorner> <TileWidth>256</TileWidth> <TileHeight>256</TileHeight>
<MatrixWidth>2986</MatrixWidth> <MatrixHeight>3661</MatrixHeight>
</TileMatrix>
<TileMatrix>
<ows:Identifier>2</ows:Identifier>
<ScaleDenominator>116001.12485937799</ScaleDenominator>
<TopLeftCorner>-1.158606E8 1.51575E8</TopLeftCorner> <TileWidth>256</TileWidth> <TileHeight>256</TileHeight>
<MatrixWidth>4480</MatrixWidth> <MatrixHeight>5493</MatrixHeight>
</TileMatrix>
<TileMatrix>
<ows:Identifier>3</ows:Identifier>
<ScaleDenominator>77390.77978154983</ScaleDenominator>
<TopLeftCorner>-1.158606E8 1.51575E8</TopLeftCorner> <TileWidth>256</TileWidth> <TileHeight>256</TileHeight>
<MatrixWidth>6714</MatrixWidth> <MatrixHeight>8234</MatrixHeight>
</TileMatrix>
<TileMatrix>
<ows:Identifier>4</ows:Identifier>
<ScaleDenominator>51622.20145868214</ScaleDenominator>
<TopLeftCorner>-1.158606E8 1.51575E8</TopLeftCorner> <TileWidth>256</TileWidth> <TileHeight>256</TileHeight>
<MatrixWidth>10066</MatrixWidth> <MatrixHeight>12344</MatrixHeight>
</TileMatrix>
<TileMatrix>
<ows:Identifier>5</ows:Identifier>
<ScaleDenominator>34414.80097245476</ScaleDenominator>
<TopLeftCorner>-1.158606E8 1.51575E8</TopLeftCorner> <TileWidth>256</TileWidth> <TileHeight>256</TileHeight>
<MatrixWidth>15099</MatrixWidth> <MatrixHeight>18515</MatrixHeight>
</TileMatrix>
<TileMatrix>
<ows:Identifier>6</ows:Identifier>
<ScaleDenominator>22962.099495624676</ScaleDenominator>
<TopLeftCorner>-1.158606E8 1.51575E8</TopLeftCorner> <TileWidth>256</TileWidth> <TileHeight>256</TileHeight>
<MatrixWidth>22629</MatrixWidth> <MatrixHeight>27750</MatrixHeight>
</TileMatrix>
<TileMatrix>
<ows:Identifier>7</ows:Identifier>
<ScaleDenominator>15308.06633041645</ScaleDenominator>
<TopLeftCorner>-1.158606E8 1.51575E8</TopLeftCorner> <TileWidth>256</TileWidth> <TileHeight>256</TileHeight>
<MatrixWidth>33943</MatrixWidth> <MatrixHeight>41624</MatrixHeight>
</TileMatrix>
<TileMatrix>
<ows:Identifier>8</ows:Identifier>
<ScaleDenominator>10205.377553610968</ScaleDenominator>
<TopLeftCorner>-1.158606E8 1.51575E8</TopLeftCorner> <TileWidth>256</TileWidth> <TileHeight>256</TileHeight>
<MatrixWidth>50914</MatrixWidth> <MatrixHeight>62436</MatrixHeight>
</TileMatrix>
<TileMatrix>
<ows:Identifier>9</ows:Identifier>
<ScaleDenominator>6803.585035740644</ScaleDenominator>
<TopLeftCorner>-1.158606E8 1.51575E8</TopLeftCorner> <TileWidth>256</TileWidth> <TileHeight>256</TileHeight>
<MatrixWidth>76371</MatrixWidth> <MatrixHeight>93654</MatrixHeight>
</TileMatrix>
<TileMatrix>
<ows:Identifier>10</ows:Identifier>
<ScaleDenominator>4535.723357160429</ScaleDenominator>
<TopLeftCorner>-1.158606E8 1.51575E8</TopLeftCorner> <TileWidth>256</TileWidth> <TileHeight>256</TileHeight>
<MatrixWidth>114557</MatrixWidth> <MatrixHeight>140481</MatrixHeight>
</TileMatrix>
<TileMatrix>
<ows:Identifier>11</ows:Identifier>
<ScaleDenominator>3061.61326608329</ScaleDenominator>
<TopLeftCorner>-1.158606E8 1.51575E8</TopLeftCorner> <TileWidth>256</TileWidth> <TileHeight>256</TileHeight>
<MatrixWidth>169713</MatrixWidth> <MatrixHeight>208119</MatrixHeight>
</TileMatrix>
<TileMatrix>
<ows:Identifier>12</ows:Identifier>
<ScaleDenominator>2041.0755107221935</ScaleDenominator>
<TopLeftCorner>-1.158606E8 1.51575E8</TopLeftCorner> <TileWidth>256</TileWidth> <TileHeight>256</TileHeight>
<MatrixWidth>254570</MatrixWidth> <MatrixHeight>312179</MatrixHeight>
</TileMatrix>
<TileMatrix>
<ows:Identifier>13</ows:Identifier>
<ScaleDenominator>1360.717007148129</ScaleDenominator>
<TopLeftCorner>-1.158606E8 1.51575E8</TopLeftCorner> <TileWidth>256</TileWidth> <TileHeight>256</TileHeight>
<MatrixWidth>381855</MatrixWidth> <MatrixHeight>468268</MatrixHeight>
</TileMatrix>
<TileMatrix>
<ows:Identifier>14</ows:Identifier>
<ScaleDenominator>907.1446714320859</ScaleDenominator>
<TopLeftCorner>-1.158606E8 1.51575E8</TopLeftCorner> <TileWidth>256</TileWidth> <TileHeight>256</TileHeight>
<MatrixWidth>572782</MatrixWidth> <MatrixHeight>702402</MatrixHeight>
</TileMatrix>
<TileMatrix>
<ows:Identifier>15</ows:Identifier>
<ScaleDenominator>453.57233571604297</ScaleDenominator>
<TopLeftCorner>-1.158606E8 1.51575E8</TopLeftCorner> <TileWidth>256</TileWidth> <TileHeight>256</TileHeight>
<MatrixWidth>1145563</MatrixWidth> <MatrixHeight>1404804</MatrixHeight>
</TileMatrix>
<TileMatrix>
<ows:Identifier>16</ows:Identifier>
<ScaleDenominator>226.78616785802149</ScaleDenominator>
<TopLeftCorner>-1.158606E8 1.51575E8</TopLeftCorner> <TileWidth>256</TileWidth> <TileHeight>256</TileHeight>
<MatrixWidth>2291125</MatrixWidth> <MatrixHeight>2809607</MatrixHeight>
</TileMatrix>
</TileMatrixSet>
</Contents>
<ServiceMetadataURL xlink:href="https://sccgis.santacruzcountyca.gov/server/rest/services/Cache/Imagery_2020/MapServer/WMTS/1.0.0/WMTSCapabilities.xml" /> </Capabilities>
